BEGIN:VCALENDAR
VERSION:2.0
PRODID:-//eventon.com NONSGML v1.0//EN
CALSCALE:GREGORIAN
METHOD:PUBLISH
BEGIN:VEVENT
UID:69e79afc7e344
DTSTAMP:20260421T224252
DTSTART:20221128T081900Z
DTEND:20221128T081900Z
TZID:Pacific/Midway
LOCATION:กรุงเทพมหานคร 
SUMMARY:อาษารัน 2022 “ว้าวฟอร์ออล”
DESCRIPTION: อาษารัน 2022 “ว้าวฟอร์ออล”\nhttps://patrunning.com/events/%e0%b8%ad%e0%b8%b2%e0%b8%a9%e0%b8%b2%e0%b8%a3%e0%b8%b1%e0%b8%99-2022-%e0%b8%a7%e0%b9%89%e0%b8%b2%e0%b8%a7%e0%b8%9f%e0%b8%ad%e0%b8%a3%e0%b9%8c%e0%b8%ad%e0%b8%ad%e0%b8%a5/
URL:https://patrunning.com/events/%e0%b8%ad%e0%b8%b2%e0%b8%a9%e0%b8%b2%e0%b8%a3%e0%b8%b1%e0%b8%99-2022-%e0%b8%a7%e0%b9%89%e0%b8%b2%e0%b8%a7%e0%b8%9f%e0%b8%ad%e0%b8%a3%e0%b9%8c%e0%b8%ad%e0%b8%ad%e0%b8%a5/
END:VEVENT
END:VCALENDAR