BEGIN:VCALENDAR
VERSION:2.0
PRODID:-//eventon.com NONSGML v1.0//EN
CALSCALE:GREGORIAN
METHOD:PUBLISH
BEGIN:VEVENT
UID:69e7887ed5598
DTSTAMP:20260421T212358
DTSTART:20221204T210700Z
DTEND:20221204T210700Z
TZID:Pacific/Midway
LOCATION:ประจวบคีรีขันธ์ 
SUMMARY:SAMROIYOT HALF MARATHON 2022 ครั้งที่ 3 “SAND SUN FUN ONTHEBEACH”
DESCRIPTION: SAMROIYOT HALF MARATHON 2022 ครั้งที่ 3 “SAND SUN FUN ONTHEBEACH”\nhttps://patrunning.com/events/samroiyot-half-marathon-2022-%e0%b8%84%e0%b8%a3%e0%b8%b1%e0%b9%89%e0%b8%87%e0%b8%97%e0%b8%b5%e0%b9%88-3-sand-sun-fun-onthebeach/
URL:https://patrunning.com/events/samroiyot-half-marathon-2022-%e0%b8%84%e0%b8%a3%e0%b8%b1%e0%b9%89%e0%b8%87%e0%b8%97%e0%b8%b5%e0%b9%88-3-sand-sun-fun-onthebeach/
END:VEVENT
END:VCALENDAR