BEGIN:VCALENDAR
VERSION:2.0
PRODID:-//eventon.com NONSGML v1.0//EN
CALSCALE:GREGORIAN
METHOD:PUBLISH
BEGIN:VEVENT
UID:69e8168c6090f
DTSTAMP:20260422T073004
DTSTART:20221128T082600Z
DTEND:20221128T082600Z
TZID:Pacific/Midway
LOCATION:ระยอง 
SUMMARY:Banlang beginner trail (บ้านแลงเทรลเริ่มต้น ปี1)
DESCRIPTION: Banlang beginner trail (บ้านแลงเทรลเริ่มต้น ปี1)\nhttps://patrunning.com/events/banlang-beginner-trail-%e0%b8%9a%e0%b9%89%e0%b8%b2%e0%b8%99%e0%b9%81%e0%b8%a5%e0%b8%87%e0%b9%80%e0%b8%97%e0%b8%a3%e0%b8%a5%e0%b9%80%e0%b8%a3%e0%b8%b4%e0%b9%88%e0%b8%a1%e0%b8%95%e0%b9%89%e0%b8%99/
URL:https://patrunning.com/events/banlang-beginner-trail-%e0%b8%9a%e0%b9%89%e0%b8%b2%e0%b8%99%e0%b9%81%e0%b8%a5%e0%b8%87%e0%b9%80%e0%b8%97%e0%b8%a3%e0%b8%a5%e0%b9%80%e0%b8%a3%e0%b8%b4%e0%b9%88%e0%b8%a1%e0%b8%95%e0%b9%89%e0%b8%99/
END:VEVENT
END:VCALENDAR