BEGIN:VCALENDAR
VERSION:2.0
PRODID:-//eventon.com NONSGML v1.0//EN
CALSCALE:GREGORIAN
METHOD:PUBLISH
BEGIN:VEVENT
UID:69e81641e77ba
DTSTAMP:20260422T072849
DTSTART:20230130T101500Z
DTEND:20230130T101500Z
TZID:Pacific/Midway
LOCATION:ระยอง 
SUMMARY:Khao Jook cross country run 2023
DESCRIPTION: Khao Jook cross country run 2023\nhttps://patrunning.com/events/khao-jook-cross-country-run-2023/
URL:https://patrunning.com/events/khao-jook-cross-country-run-2023/
END:VEVENT
END:VCALENDAR