BEGIN:VCALENDAR
VERSION:2.0
PRODID:-//eventon.com NONSGML v1.0//EN
CALSCALE:GREGORIAN
METHOD:PUBLISH
BEGIN:VEVENT
UID:69e8450686deb
DTSTAMP:20260422T104822
DTSTART:20230116T065400Z
DTEND:20230116T065400Z
TZID:Pacific/Midway
LOCATION:นครราชสีมา 
SUMMARY:WALK TO RUN Camping 2023 (เลื่อนไป 13 ส.ค.66)
DESCRIPTION: WALK TO RUN Camping 2023 (เลื่อนไป 13 ส.ค.66)\nhttps://patrunning.com/events/walk-to-run-camping-2023/
URL:https://patrunning.com/events/walk-to-run-camping-2023/
END:VEVENT
END:VCALENDAR