BEGIN:VCALENDAR
VERSION:2.0
PRODID:-//eventon.com NONSGML v1.0//EN
CALSCALE:GREGORIAN
METHOD:PUBLISH
BEGIN:VEVENT
UID:69e861286f198
DTSTAMP:20260422T124824
DTSTART:20221205T080600Z
DTEND:20221205T080600Z
TZID:Pacific/Midway
LOCATION:นครราชสีมา 
SUMMARY:วิ่งสร้างบุญ วัดสมานมิตร โคราช  ตอน : วิ่งสร้างยักษ์ ปี 65
DESCRIPTION: วิ่งสร้างบุญ วัดสมานมิตร โคราช  ตอน : วิ่งสร้างยักษ์ ปี 65\nhttps://patrunning.com/events/%e0%b8%a7%e0%b8%b4%e0%b9%88%e0%b8%87%e0%b8%aa%e0%b8%a3%e0%b9%89%e0%b8%b2%e0%b8%87%e0%b8%9a%e0%b8%b8%e0%b8%8d-%e0%b8%a7%e0%b8%b1%e0%b8%94%e0%b8%aa%e0%b8%a1%e0%b8%b2%e0%b8%99%e0%b8%a1%e0%b8%b4%e0%b8%95/
URL:https://patrunning.com/events/%e0%b8%a7%e0%b8%b4%e0%b9%88%e0%b8%87%e0%b8%aa%e0%b8%a3%e0%b9%89%e0%b8%b2%e0%b8%87%e0%b8%9a%e0%b8%b8%e0%b8%8d-%e0%b8%a7%e0%b8%b1%e0%b8%94%e0%b8%aa%e0%b8%a1%e0%b8%b2%e0%b8%99%e0%b8%a1%e0%b8%b4%e0%b8%95/
END:VEVENT
END:VCALENDAR