BEGIN:VCALENDAR
VERSION:2.0
PRODID:-//eventon.com NONSGML v1.0//EN
CALSCALE:GREGORIAN
METHOD:PUBLISH
BEGIN:VEVENT
UID:69e78563e636c
DTSTAMP:20260421T211043
DTSTART:20230213T102200Z
DTEND:20230213T102200Z
TZID:Pacific/Midway
LOCATION:ประจวบคีรีขันธ์ 
SUMMARY:SCENIC HALF MARATHON PRANBURI 2023
DESCRIPTION: SCENIC HALF MARATHON PRANBURI 2023\nhttps://patrunning.com/events/scenic-half-marathon-pranburi-2023/
URL:https://patrunning.com/events/scenic-half-marathon-pranburi-2023/
END:VEVENT
END:VCALENDAR