BEGIN:VCALENDAR
VERSION:2.0
PRODID:-//eventon.com NONSGML v1.0//EN
CALSCALE:GREGORIAN
METHOD:PUBLISH
BEGIN:VEVENT
UID:69ea24e414b95
DTSTAMP:20260423T205548
DTSTART:20221128T074400Z
DTEND:20221128T074400Z
TZID:Pacific/Midway
LOCATION:นครศรีธรรมราช 
SUMMARY:AF AND SCD AWARENESS DAY 2022 เดิน วิ่ง ริมเล เพื่อให้หัวใจแข็งแรง
DESCRIPTION: AF AND SCD AWARENESS DAY 2022 เดิน วิ่ง ริมเล เพื่อให้หัวใจแข็งแรง\nhttps://patrunning.com/events/af-and-scd-awareness-day-2022-%e0%b9%80%e0%b8%94%e0%b8%b4%e0%b8%99-%e0%b8%a7%e0%b8%b4%e0%b9%88%e0%b8%87-%e0%b8%a3%e0%b8%b4%e0%b8%a1%e0%b9%80%e0%b8%a5-%e0%b9%80%e0%b8%9e%e0%b8%b7%e0%b9%88%e0%b8%ad/
URL:https://patrunning.com/events/af-and-scd-awareness-day-2022-%e0%b9%80%e0%b8%94%e0%b8%b4%e0%b8%99-%e0%b8%a7%e0%b8%b4%e0%b9%88%e0%b8%87-%e0%b8%a3%e0%b8%b4%e0%b8%a1%e0%b9%80%e0%b8%a5-%e0%b9%80%e0%b8%9e%e0%b8%b7%e0%b9%88%e0%b8%ad/
END:VEVENT
END:VCALENDAR