BEGIN:VCALENDAR
VERSION:2.0
PRODID:-//eventon.com NONSGML v1.0//EN
CALSCALE:GREGORIAN
METHOD:PUBLISH
BEGIN:VEVENT
UID:69e8612972e3d
DTSTAMP:20260422T124825
DTSTART:20230206T024800Z
DTEND:20230206T024800Z
TZID:Pacific/Midway
LOCATION:นครราชสีมา 
SUMMARY:Seema Running (สีมา รันนิ่ง)
DESCRIPTION: Seema Running (สีมา รันนิ่ง)\nhttps://patrunning.com/events/seema-running-%e0%b8%aa%e0%b8%b5%e0%b8%a1%e0%b8%b2-%e0%b8%a3%e0%b8%b1%e0%b8%99%e0%b8%99%e0%b8%b4%e0%b9%88%e0%b8%87/
URL:https://patrunning.com/events/seema-running-%e0%b8%aa%e0%b8%b5%e0%b8%a1%e0%b8%b2-%e0%b8%a3%e0%b8%b1%e0%b8%99%e0%b8%99%e0%b8%b4%e0%b9%88%e0%b8%87/
END:VEVENT
END:VCALENDAR