BEGIN:VCALENDAR
VERSION:2.0
PRODID:-//eventon.com NONSGML v1.0//EN
CALSCALE:GREGORIAN
METHOD:PUBLISH
BEGIN:VEVENT
UID:69e86127210e3
DTSTAMP:20260422T124823
DTSTART:20230130T074700Z
DTEND:20230130T074700Z
TZID:Pacific/Midway
LOCATION:นครราชสีมา 
SUMMARY:ACN Family Run #1
DESCRIPTION: ACN Family Run #1\nhttps://patrunning.com/events/acn-family-run-1/
URL:https://patrunning.com/events/acn-family-run-1/
END:VEVENT
END:VCALENDAR