BEGIN:VCALENDAR
VERSION:2.0
PRODID:-//eventon.com NONSGML v1.0//EN
CALSCALE:GREGORIAN
METHOD:PUBLISH
BEGIN:VEVENT
UID:69e8612721116
DTSTAMP:20260422T124823
DTSTART:20230206T081900Z
DTEND:20230206T081900Z
TZID:Pacific/Midway
LOCATION:นครราชสีมา 
SUMMARY:FOX kids Thailand 2023 SERIES (ยกเลิกการจัดงาน)
DESCRIPTION: FOX kids Thailand 2023 SERIES (ยกเลิกการจัดงาน)\nhttps://patrunning.com/events/fox-kids-thailand-2023-series/
URL:https://patrunning.com/events/fox-kids-thailand-2023-series/
END:VEVENT
END:VCALENDAR