BEGIN:VCALENDAR
VERSION:2.0
PRODID:-//eventon.com NONSGML v1.0//EN
CALSCALE:GREGORIAN
METHOD:PUBLISH
BEGIN:VEVENT
UID:69e78571035b5
DTSTAMP:20260421T211057
DTSTART:20230213T084000Z
DTEND:20230213T084000Z
TZID:Pacific/Midway
LOCATION:ประจวบคีรีขันธ์ 
SUMMARY:See Sun Run Sea Season 3
DESCRIPTION: See Sun Run Sea Season 3\nhttps://patrunning.com/events/see-sun-run-sea-season-3/
URL:https://patrunning.com/events/see-sun-run-sea-season-3/
END:VEVENT
END:VCALENDAR