BEGIN:VCALENDAR
VERSION:2.0
PRODID:-//eventon.com NONSGML v1.0//EN
CALSCALE:GREGORIAN
METHOD:PUBLISH
BEGIN:VEVENT
UID:69e7fe6e5581b
DTSTAMP:20260422T054710
DTSTART:20230501T094100Z
DTEND:20230501T094100Z
TZID:Pacific/Midway
LOCATION:ระยอง 
SUMMARY:Sinsamut Run 2023 สินสมุทรรัน 2566
DESCRIPTION: Sinsamut Run 2023 สินสมุทรรัน 2566\nhttps://patrunning.com/events/sinsamut-run-2023-%e0%b8%aa%e0%b8%b4%e0%b8%99%e0%b8%aa%e0%b8%a1%e0%b8%b8%e0%b8%97%e0%b8%a3%e0%b8%a3%e0%b8%b1%e0%b8%99-2566/
URL:https://patrunning.com/events/sinsamut-run-2023-%e0%b8%aa%e0%b8%b4%e0%b8%99%e0%b8%aa%e0%b8%a1%e0%b8%b8%e0%b8%97%e0%b8%a3%e0%b8%a3%e0%b8%b1%e0%b8%99-2566/
END:VEVENT
END:VCALENDAR