BEGIN:VCALENDAR
VERSION:2.0
PRODID:-//eventon.com NONSGML v1.0//EN
CALSCALE:GREGORIAN
METHOD:PUBLISH
BEGIN:VEVENT
UID:69e860e6a0380
DTSTAMP:20260422T124718
DTSTART:20230219T234500Z
DTEND:20230219T234500Z
TZID:Pacific/Midway
LOCATION:นครราชสีมา 
SUMMARY:Run Against drugs 2023 “วิ่งเพื่อน้อง 2023 ต่อค้านยาเสพติด”
DESCRIPTION: Run Against drugs 2023 “วิ่งเพื่อน้อง 2023 ต่อค้านยาเสพติด”\nhttps://patrunning.com/events/run-against-drugs-2023-%e0%b8%a7%e0%b8%b4%e0%b9%88%e0%b8%87%e0%b9%80%e0%b8%9e%e0%b8%b7%e0%b9%88%e0%b8%ad%e0%b8%99%e0%b9%89%e0%b8%ad%e0%b8%87-2023-%e0%b8%95%e0%b9%88%e0%b8%ad%e0%b8%84%e0%b9%89/
URL:https://patrunning.com/events/run-against-drugs-2023-%e0%b8%a7%e0%b8%b4%e0%b9%88%e0%b8%87%e0%b9%80%e0%b8%9e%e0%b8%b7%e0%b9%88%e0%b8%ad%e0%b8%99%e0%b9%89%e0%b8%ad%e0%b8%87-2023-%e0%b8%95%e0%b9%88%e0%b8%ad%e0%b8%84%e0%b9%89/
END:VEVENT
END:VCALENDAR