BEGIN:VCALENDAR
VERSION:2.0
PRODID:-//eventon.com NONSGML v1.0//EN
CALSCALE:GREGORIAN
METHOD:PUBLISH
BEGIN:VEVENT
UID:69e86127e7066
DTSTAMP:20260422T124823
DTSTART:20231113T002200Z
DTEND:20231113T002200Z
TZID:Pacific/Midway
LOCATION:นครราชสีมา 
SUMMARY:The Mall Korat Marathon 2023
DESCRIPTION: The Mall Korat Marathon 2023\nhttps://patrunning.com/events/the-mall-korat-marathon-2023/
URL:https://patrunning.com/events/the-mall-korat-marathon-2023/
END:VEVENT
END:VCALENDAR