BEGIN:VCALENDAR
VERSION:2.0
PRODID:-//eventon.com NONSGML v1.0//EN
CALSCALE:GREGORIAN
METHOD:PUBLISH
BEGIN:VEVENT
UID:69e7fecb7ad99
DTSTAMP:20260422T054843
DTSTART:20230326T004300Z
DTEND:20230327T004300Z
TZID:Pacific/Midway
LOCATION:ระยอง 
SUMMARY:พาลูกวิ่งดะ OBSTACLE ON THE BEACH 2023
DESCRIPTION: พาลูกวิ่งดะ OBSTACLE ON THE BEACH 2023\nhttps://patrunning.com/events/%e0%b8%9e%e0%b8%b2%e0%b8%a5%e0%b8%b9%e0%b8%81%e0%b8%a7%e0%b8%b4%e0%b9%88%e0%b8%87%e0%b8%94%e0%b8%b0-obstacle-on-the-beach-2023/
URL:https://patrunning.com/events/%e0%b8%9e%e0%b8%b2%e0%b8%a5%e0%b8%b9%e0%b8%81%e0%b8%a7%e0%b8%b4%e0%b9%88%e0%b8%87%e0%b8%94%e0%b8%b0-obstacle-on-the-beach-2023/
END:VEVENT
END:VCALENDAR