BEGIN:VCALENDAR
VERSION:2.0
PRODID:-//eventon.com NONSGML v1.0//EN
CALSCALE:GREGORIAN
METHOD:PUBLISH
BEGIN:VEVENT
UID:69e7fecab8db6
DTSTAMP:20260422T054842
DTSTART:20230212T222400Z
DTEND:20230212T222400Z
TZID:Pacific/Midway
LOCATION:ระยอง 
SUMMARY:แม่น้ำคู้ ลองรัน 2566 (วิ่งตอนเย็น)
DESCRIPTION: แม่น้ำคู้ ลองรัน 2566 (วิ่งตอนเย็น)\nhttps://patrunning.com/events/%e0%b9%81%e0%b8%a1%e0%b9%88%e0%b8%99%e0%b9%89%e0%b8%b3%e0%b8%84%e0%b8%b9%e0%b9%89-%e0%b8%a5%e0%b8%ad%e0%b8%87%e0%b8%a3%e0%b8%b1%e0%b8%99-2566-%e0%b8%a7%e0%b8%b4%e0%b9%88%e0%b8%87%e0%b8%95%e0%b8%ad/
URL:https://patrunning.com/events/%e0%b9%81%e0%b8%a1%e0%b9%88%e0%b8%99%e0%b9%89%e0%b8%b3%e0%b8%84%e0%b8%b9%e0%b9%89-%e0%b8%a5%e0%b8%ad%e0%b8%87%e0%b8%a3%e0%b8%b1%e0%b8%99-2566-%e0%b8%a7%e0%b8%b4%e0%b9%88%e0%b8%87%e0%b8%95%e0%b8%ad/
END:VEVENT
END:VCALENDAR