BEGIN:VCALENDAR
VERSION:2.0
PRODID:-//eventon.com NONSGML v1.0//EN
CALSCALE:GREGORIAN
METHOD:PUBLISH
BEGIN:VEVENT
UID:69e860e61c8de
DTSTAMP:20260422T124718
DTSTART:20230306T032600Z
DTEND:20230306T032600Z
TZID:Pacific/Midway
LOCATION:นครราชสีมา 
SUMMARY:NRRU 100th Anniversary RUN
DESCRIPTION: NRRU 100th Anniversary RUN\nhttps://patrunning.com/events/nrru-100th-anniversary-run/
URL:https://patrunning.com/events/nrru-100th-anniversary-run/
END:VEVENT
END:VCALENDAR