BEGIN:VCALENDAR
VERSION:2.0
PRODID:-//eventon.com NONSGML v1.0//EN
CALSCALE:GREGORIAN
METHOD:PUBLISH
BEGIN:VEVENT
UID:69e7fea22bfd3
DTSTAMP:20260422T054802
DTSTART:20230313T070300Z
DTEND:20230313T070300Z
TZID:Pacific/Midway
LOCATION:ระยอง 
SUMMARY:พลา รัน 3 : 2566
DESCRIPTION: พลา รัน 3 : 2566\nhttps://patrunning.com/events/%e0%b8%9e%e0%b8%a5%e0%b8%b2-%e0%b8%a3%e0%b8%b1%e0%b8%99-3-2566/
URL:https://patrunning.com/events/%e0%b8%9e%e0%b8%a5%e0%b8%b2-%e0%b8%a3%e0%b8%b1%e0%b8%99-3-2566/
END:VEVENT
END:VCALENDAR