BEGIN:VCALENDAR
VERSION:2.0
PRODID:-//eventon.com NONSGML v1.0//EN
CALSCALE:GREGORIAN
METHOD:PUBLISH
BEGIN:VEVENT
UID:69e860e51fae9
DTSTAMP:20260422T124717
DTSTART:20230814T065400Z
DTEND:20230814T065400Z
TZID:Pacific/Midway
LOCATION:นครราชสีมา 
SUMMARY:WALK TO RUN Camping 2023
DESCRIPTION: WALK TO RUN Camping 2023\nhttps://patrunning.com/events/walk-to-run-camping-2023-2/
URL:https://patrunning.com/events/walk-to-run-camping-2023-2/
END:VEVENT
END:VCALENDAR