BEGIN:VCALENDAR
VERSION:2.0
PRODID:-//eventon.com NONSGML v1.0//EN
CALSCALE:GREGORIAN
METHOD:PUBLISH
BEGIN:VEVENT
UID:69e78858bd967
DTSTAMP:20260421T212320
DTSTART:20230515T074000Z
DTEND:20230515T074000Z
TZID:Pacific/Midway
LOCATION:ประจวบคีรีขันธ์ 
SUMMARY:หัวหินมาราธอน 2023 (ครั้งที่ 3) (เลื่อนไป 11 มิ.ย.)
DESCRIPTION: หัวหินมาราธอน 2023 (ครั้งที่ 3) (เลื่อนไป 11 มิ.ย.)\nhttps://patrunning.com/events/%e0%b8%ab%e0%b8%b1%e0%b8%a7%e0%b8%ab%e0%b8%b4%e0%b8%99%e0%b8%a1%e0%b8%b2%e0%b8%a3%e0%b8%b2%e0%b8%98%e0%b8%ad%e0%b8%99-2023-%e0%b8%84%e0%b8%a3%e0%b8%b1%e0%b9%89%e0%b8%87%e0%b8%97%e0%b8%b5%e0%b9%88-3/
URL:https://patrunning.com/events/%e0%b8%ab%e0%b8%b1%e0%b8%a7%e0%b8%ab%e0%b8%b4%e0%b8%99%e0%b8%a1%e0%b8%b2%e0%b8%a3%e0%b8%b2%e0%b8%98%e0%b8%ad%e0%b8%99-2023-%e0%b8%84%e0%b8%a3%e0%b8%b1%e0%b9%89%e0%b8%87%e0%b8%97%e0%b8%b5%e0%b9%88-3/
END:VEVENT
END:VCALENDAR