BEGIN:VCALENDAR
VERSION:2.0
PRODID:-//eventon.com NONSGML v1.0//EN
CALSCALE:GREGORIAN
METHOD:PUBLISH
BEGIN:VEVENT
UID:69e7fe6daca2e
DTSTAMP:20260422T054709
DTSTART:20230403T101100Z
DTEND:20230403T101100Z
TZID:Pacific/Midway
LOCATION:ระยอง 
SUMMARY:คนเหล็กไทย – Kon Lhek Thai Triathlon
DESCRIPTION: คนเหล็กไทย – Kon Lhek Thai Triathlon\nhttps://patrunning.com/events/%e0%b8%84%e0%b8%99%e0%b9%80%e0%b8%ab%e0%b8%a5%e0%b9%87%e0%b8%81%e0%b9%84%e0%b8%97%e0%b8%a2-kon-lhek-thai-triathlon/
URL:https://patrunning.com/events/%e0%b8%84%e0%b8%99%e0%b9%80%e0%b8%ab%e0%b8%a5%e0%b9%87%e0%b8%81%e0%b9%84%e0%b8%97%e0%b8%a2-kon-lhek-thai-triathlon/
END:VEVENT
END:VCALENDAR