BEGIN:VCALENDAR
VERSION:2.0
PRODID:-//eventon.com NONSGML v1.0//EN
CALSCALE:GREGORIAN
METHOD:PUBLISH
BEGIN:VEVENT
UID:69e878294b83c
DTSTAMP:20260422T142633
DTSTART:20230327T074700Z
DTEND:20230327T074700Z
TZID:Pacific/Midway
LOCATION:นครราชสีมา 
SUMMARY:รวมใจโชคชัยรัน 2023
DESCRIPTION: รวมใจโชคชัยรัน 2023\nhttps://patrunning.com/events/%e0%b8%a3%e0%b8%a7%e0%b8%a1%e0%b9%83%e0%b8%88%e0%b9%82%e0%b8%8a%e0%b8%84%e0%b8%8a%e0%b8%b1%e0%b8%a2%e0%b8%a3%e0%b8%b1%e0%b8%99-2023/
URL:https://patrunning.com/events/%e0%b8%a3%e0%b8%a7%e0%b8%a1%e0%b9%83%e0%b8%88%e0%b9%82%e0%b8%8a%e0%b8%84%e0%b8%8a%e0%b8%b1%e0%b8%a2%e0%b8%a3%e0%b8%b1%e0%b8%99-2023/
END:VEVENT
END:VCALENDAR