BEGIN:VCALENDAR
VERSION:2.0
PRODID:-//eventon.com NONSGML v1.0//EN
CALSCALE:GREGORIAN
METHOD:PUBLISH
BEGIN:VEVENT
UID:69e8786eee84a
DTSTAMP:20260422T142742
DTSTART:20231009T091500Z
DTEND:20231009T091500Z
TZID:Pacific/Midway
LOCATION:นครราชสีมา 
SUMMARY:เขาใหญ่มาราธอนภูเขานานาชาติ 2566
DESCRIPTION: เขาใหญ่มาราธอนภูเขานานาชาติ 2566\nhttps://patrunning.com/events/%e0%b9%80%e0%b8%82%e0%b8%b2%e0%b9%83%e0%b8%ab%e0%b8%8d%e0%b9%88%e0%b8%a1%e0%b8%b2%e0%b8%a3%e0%b8%b2%e0%b8%98%e0%b8%ad%e0%b8%99%e0%b8%a0%e0%b8%b9%e0%b9%80%e0%b8%82%e0%b8%b2%e0%b8%99%e0%b8%b2%e0%b8%99-2/
URL:https://patrunning.com/events/%e0%b9%80%e0%b8%82%e0%b8%b2%e0%b9%83%e0%b8%ab%e0%b8%8d%e0%b9%88%e0%b8%a1%e0%b8%b2%e0%b8%a3%e0%b8%b2%e0%b8%98%e0%b8%ad%e0%b8%99%e0%b8%a0%e0%b8%b9%e0%b9%80%e0%b8%82%e0%b8%b2%e0%b8%99%e0%b8%b2%e0%b8%99-2/
END:VEVENT
END:VCALENDAR