BEGIN:VCALENDAR
VERSION:2.0
PRODID:-//eventon.com NONSGML v1.0//EN
CALSCALE:GREGORIAN
METHOD:PUBLISH
BEGIN:VEVENT
UID:69e722a587b20
DTSTAMP:20260421T140925
DTSTART:20230522T085400Z
DTEND:20230522T085400Z
TZID:Pacific/Midway
LOCATION:ระยอง 
SUMMARY:Rayong Fruit Farm Run 2023 (ครั้งที่ 3 )
DESCRIPTION: Rayong Fruit Farm Run 2023 (ครั้งที่ 3 )\nhttps://patrunning.com/events/rayong-fruit-farm-run-2023-%e0%b8%84%e0%b8%a3%e0%b8%b1%e0%b9%89%e0%b8%87%e0%b8%97%e0%b8%b5%e0%b9%88-3/
URL:https://patrunning.com/events/rayong-fruit-farm-run-2023-%e0%b8%84%e0%b8%a3%e0%b8%b1%e0%b9%89%e0%b8%87%e0%b8%97%e0%b8%b5%e0%b9%88-3/
END:VEVENT
END:VCALENDAR