BEGIN:VCALENDAR
VERSION:2.0
PRODID:-//eventon.com NONSGML v1.0//EN
CALSCALE:GREGORIAN
METHOD:PUBLISH
BEGIN:VEVENT
UID:69e7e79c38bdb
DTSTAMP:20260422T040948
DTSTART:20230605T070300Z
DTEND:20230605T070300Z
TZID:Pacific/Midway
LOCATION:ระยอง 
SUMMARY:Banlang Run Wonder Fruit วิ่งมหัศจรรย์ บ้านแลง แดนผลไม้
DESCRIPTION: Banlang Run Wonder Fruit วิ่งมหัศจรรย์ บ้านแลง แดนผลไม้\nhttps://patrunning.com/events/banlang-run-wonder-fruit-%e0%b8%a7%e0%b8%b4%e0%b9%88%e0%b8%87%e0%b8%a1%e0%b8%ab%e0%b8%b1%e0%b8%a8%e0%b8%88%e0%b8%a3%e0%b8%a3%e0%b8%a2%e0%b9%8c-%e0%b8%9a%e0%b9%89%e0%b8%b2%e0%b8%99%e0%b9%81%e0%b8%a5/
URL:https://patrunning.com/events/banlang-run-wonder-fruit-%e0%b8%a7%e0%b8%b4%e0%b9%88%e0%b8%87%e0%b8%a1%e0%b8%ab%e0%b8%b1%e0%b8%a8%e0%b8%88%e0%b8%a3%e0%b8%a3%e0%b8%a2%e0%b9%8c-%e0%b8%9a%e0%b9%89%e0%b8%b2%e0%b8%99%e0%b9%81%e0%b8%a5/
END:VEVENT
END:VCALENDAR