BEGIN:VCALENDAR
VERSION:2.0
PRODID:-//eventon.com NONSGML v1.0//EN
CALSCALE:GREGORIAN
METHOD:PUBLISH
BEGIN:VEVENT
UID:69e878274b529
DTSTAMP:20260422T142631
DTSTART:20231120T065800Z
DTEND:20231120T065800Z
TZID:Pacific/Midway
LOCATION:นครราชสีมา 
SUMMARY:ถ้ำค้างคาวเขาใหญ่ ฮาล์ฟ มาราธอน 2023 @หนองขี้ตุ่น
DESCRIPTION: ถ้ำค้างคาวเขาใหญ่ ฮาล์ฟ มาราธอน 2023 @หนองขี้ตุ่น\nhttps://patrunning.com/events/%e0%b8%96%e0%b9%89%e0%b8%b3%e0%b8%84%e0%b9%89%e0%b8%b2%e0%b8%87%e0%b8%84%e0%b8%b2%e0%b8%a7%e0%b9%80%e0%b8%82%e0%b8%b2%e0%b9%83%e0%b8%ab%e0%b8%8d%e0%b9%88-%e0%b8%ae%e0%b8%b2%e0%b8%a5%e0%b9%8c%e0%b8%9f/
URL:https://patrunning.com/events/%e0%b8%96%e0%b9%89%e0%b8%b3%e0%b8%84%e0%b9%89%e0%b8%b2%e0%b8%87%e0%b8%84%e0%b8%b2%e0%b8%a7%e0%b9%80%e0%b8%82%e0%b8%b2%e0%b9%83%e0%b8%ab%e0%b8%8d%e0%b9%88-%e0%b8%ae%e0%b8%b2%e0%b8%a5%e0%b9%8c%e0%b8%9f/
END:VEVENT
END:VCALENDAR