BEGIN:VCALENDAR
VERSION:2.0
PRODID:-//eventon.com NONSGML v1.0//EN
CALSCALE:GREGORIAN
METHOD:PUBLISH
BEGIN:VEVENT
UID:69e788597ce31
DTSTAMP:20260421T212321
DTSTART:20230430T213700Z
DTEND:20230430T213700Z
TZID:Pacific/Midway
LOCATION:ตาก 
SUMMARY:เดิน-วิ่งการกุศล Rotary Tak Charity Run 2023
DESCRIPTION: เดิน-วิ่งการกุศล Rotary Tak Charity Run 2023\nhttps://patrunning.com/events/%e0%b9%80%e0%b8%94%e0%b8%b4%e0%b8%99-%e0%b8%a7%e0%b8%b4%e0%b9%88%e0%b8%87%e0%b8%81%e0%b8%b2%e0%b8%a3%e0%b8%81%e0%b8%b8%e0%b8%a8%e0%b8%a5-rotary-tak-charity-run-2023/
URL:https://patrunning.com/events/%e0%b9%80%e0%b8%94%e0%b8%b4%e0%b8%99-%e0%b8%a7%e0%b8%b4%e0%b9%88%e0%b8%87%e0%b8%81%e0%b8%b2%e0%b8%a3%e0%b8%81%e0%b8%b8%e0%b8%a8%e0%b8%a5-rotary-tak-charity-run-2023/
END:VEVENT
END:VCALENDAR