BEGIN:VCALENDAR
VERSION:2.0
PRODID:-//eventon.com NONSGML v1.0//EN
CALSCALE:GREGORIAN
METHOD:PUBLISH
BEGIN:VEVENT
UID:69e8782347d76
DTSTAMP:20260422T142627
DTSTART:20230604T221100Z
DTEND:20230604T221100Z
TZID:Pacific/Midway
LOCATION:นครราชสีมา 
SUMMARY:Rimpha X Trail 2023
DESCRIPTION: Rimpha X Trail 2023\nhttps://patrunning.com/events/rimpha-x-trail-2023/
URL:https://patrunning.com/events/rimpha-x-trail-2023/
END:VEVENT
END:VCALENDAR