BEGIN:VCALENDAR
VERSION:2.0
PRODID:-//eventon.com NONSGML v1.0//EN
CALSCALE:GREGORIAN
METHOD:PUBLISH
BEGIN:VEVENT
UID:69e87828be6c3
DTSTAMP:20260422T142632
DTSTART:20230730T085200Z
DTEND:20230731T085200Z
TZID:Pacific/Midway
LOCATION:นครราชสีมา 
SUMMARY:BUNG TA LUA ULTRA 100K 1st
DESCRIPTION: BUNG TA LUA ULTRA 100K 1st\nhttps://patrunning.com/events/bung-ta-lua-ultra-100k-1st/
URL:https://patrunning.com/events/bung-ta-lua-ultra-100k-1st/
END:VEVENT
END:VCALENDAR