BEGIN:VCALENDAR
VERSION:2.0
PRODID:-//eventon.com NONSGML v1.0//EN
CALSCALE:GREGORIAN
METHOD:PUBLISH
BEGIN:VEVENT
UID:69e8782255314
DTSTAMP:20260422T142626
DTSTART:20230522T070400Z
DTEND:20230522T070400Z
TZID:Pacific/Midway
LOCATION:นครราชสีมา 
SUMMARY:วิ่งด้วยกัน รันเพื่อสุขภาพ (นครราชสีมา)
DESCRIPTION: วิ่งด้วยกัน รันเพื่อสุขภาพ (นครราชสีมา)\nhttps://patrunning.com/events/%e0%b8%a7%e0%b8%b4%e0%b9%88%e0%b8%87%e0%b8%94%e0%b9%89%e0%b8%a7%e0%b8%a2%e0%b8%81%e0%b8%b1%e0%b8%99-%e0%b8%a3%e0%b8%b1%e0%b8%99%e0%b9%80%e0%b8%9e%e0%b8%b7%e0%b9%88%e0%b8%ad%e0%b8%aa%e0%b8%b8-6/
URL:https://patrunning.com/events/%e0%b8%a7%e0%b8%b4%e0%b9%88%e0%b8%87%e0%b8%94%e0%b9%89%e0%b8%a7%e0%b8%a2%e0%b8%81%e0%b8%b1%e0%b8%99-%e0%b8%a3%e0%b8%b1%e0%b8%99%e0%b9%80%e0%b8%9e%e0%b8%b7%e0%b9%88%e0%b8%ad%e0%b8%aa%e0%b8%b8-6/
END:VEVENT
END:VCALENDAR