BEGIN:VCALENDAR
VERSION:2.0
PRODID:-//eventon.com NONSGML v1.0//EN
CALSCALE:GREGORIAN
METHOD:PUBLISH
BEGIN:VEVENT
UID:69e878284f754
DTSTAMP:20260422T142632
DTSTART:20231125T235100Z
DTEND:20231126T235100Z
TZID:Pacific/Midway
LOCATION:นครราชสีมา 
SUMMARY:Cuesta X Trail 2023
DESCRIPTION: Cuesta X Trail 2023\nhttps://patrunning.com/events/cuesta-x-trail-2023/
URL:https://patrunning.com/events/cuesta-x-trail-2023/
END:VEVENT
END:VCALENDAR