BEGIN:VCALENDAR
VERSION:2.0
PRODID:-//eventon.com NONSGML v1.0//EN
CALSCALE:GREGORIAN
METHOD:PUBLISH
BEGIN:VEVENT
UID:69e76d726b5e7
DTSTAMP:20260421T192834
DTSTART:20230723T232500Z
DTEND:20230723T232500Z
TZID:Pacific/Midway
LOCATION:ประจวบคีรีขันธ์ 
SUMMARY:อีเล้งเค้งโค้งล้อลมปราณ
DESCRIPTION: อีเล้งเค้งโค้งล้อลมปราณ\nhttps://patrunning.com/events/%e0%b8%ad%e0%b8%b5%e0%b9%80%e0%b8%a5%e0%b9%89%e0%b8%87%e0%b9%80%e0%b8%84%e0%b9%89%e0%b8%87%e0%b9%82%e0%b8%84%e0%b9%89%e0%b8%87%e0%b8%a5%e0%b9%89%e0%b8%ad%e0%b8%a5%e0%b8%a1%e0%b8%9b%e0%b8%a3%e0%b8%b2/
URL:https://patrunning.com/events/%e0%b8%ad%e0%b8%b5%e0%b9%80%e0%b8%a5%e0%b9%89%e0%b8%87%e0%b9%80%e0%b8%84%e0%b9%89%e0%b8%87%e0%b9%82%e0%b8%84%e0%b9%89%e0%b8%87%e0%b8%a5%e0%b9%89%e0%b8%ad%e0%b8%a5%e0%b8%a1%e0%b8%9b%e0%b8%a3%e0%b8%b2/
END:VEVENT
END:VCALENDAR