BEGIN:VCALENDAR
VERSION:2.0
PRODID:-//eventon.com NONSGML v1.0//EN
CALSCALE:GREGORIAN
METHOD:PUBLISH
BEGIN:VEVENT
UID:69ebdae0a54b1
DTSTAMP:20260425T040432
DTSTART:20230605T065000Z
DTEND:20230605T065000Z
TZID:Pacific/Midway
LOCATION:นครพนม 
SUMMARY:NT RUN FOR LIFE สามัคคี ทำดี เพื่อสังคม @นครพนม
DESCRIPTION: NT RUN FOR LIFE สามัคคี ทำดี เพื่อสังคม @นครพนม\nhttps://patrunning.com/events/nt-run-for-life-%e0%b8%aa%e0%b8%b2%e0%b8%a1%e0%b8%b1%e0%b8%84%e0%b8%84%e0%b8%b5-%e0%b8%97%e0%b8%b3%e0%b8%94%e0%b8%b5-%e0%b9%80%e0%b8%9e%e0%b8%b7%e0%b9%88%e0%b8%ad%e0%b8%aa%e0%b8%b1%e0%b8%87%e0%b8%84/
URL:https://patrunning.com/events/nt-run-for-life-%e0%b8%aa%e0%b8%b2%e0%b8%a1%e0%b8%b1%e0%b8%84%e0%b8%84%e0%b8%b5-%e0%b8%97%e0%b8%b3%e0%b8%94%e0%b8%b5-%e0%b9%80%e0%b8%9e%e0%b8%b7%e0%b9%88%e0%b8%ad%e0%b8%aa%e0%b8%b1%e0%b8%87%e0%b8%84/
END:VEVENT
END:VCALENDAR