BEGIN:VCALENDAR
VERSION:2.0
PRODID:-//eventon.com NONSGML v1.0//EN
CALSCALE:GREGORIAN
METHOD:PUBLISH
BEGIN:VEVENT
UID:69e76d7d816a9
DTSTAMP:20260421T192845
DTSTART:20230717T070600Z
DTEND:20230717T070600Z
TZID:Pacific/Midway
LOCATION:ประจวบคีรีขันธ์ 
SUMMARY:PRACHUAP KHIRI RUN SEASON 4 BY TIPCO
DESCRIPTION: PRACHUAP KHIRI RUN SEASON 4 BY TIPCO\nhttps://patrunning.com/events/prachuap-khiri-run-season-4-by-tipco/
URL:https://patrunning.com/events/prachuap-khiri-run-season-4-by-tipco/
END:VEVENT
END:VCALENDAR