BEGIN:VCALENDAR
VERSION:2.0
PRODID:-//eventon.com NONSGML v1.0//EN
CALSCALE:GREGORIAN
METHOD:PUBLISH
BEGIN:VEVENT
UID:69e76b7c43e03
DTSTAMP:20260421T192012
DTSTART:20230731T070300Z
DTEND:20230731T070300Z
TZID:Pacific/Midway
LOCATION:ประจวบคีรีขันธ์ 
SUMMARY:TWENTY ONE RUN
DESCRIPTION: TWENTY ONE RUN\nhttps://patrunning.com/events/twenty-one-run/
URL:https://patrunning.com/events/twenty-one-run/
END:VEVENT
END:VCALENDAR