BEGIN:VCALENDAR
VERSION:2.0
PRODID:-//eventon.com NONSGML v1.0//EN
CALSCALE:GREGORIAN
METHOD:PUBLISH
BEGIN:VEVENT
UID:69e76dbb119ef
DTSTAMP:20260421T192947
DTSTART:20230903T090000Z
DTEND:20230903T090000Z
TZID:Pacific/Midway
LOCATION:ประจวบคีรีขันธ์ 
SUMMARY:ประมงไทยชวนวิ่ง#2
DESCRIPTION: ประมงไทยชวนวิ่ง#2\nhttps://patrunning.com/events/%e0%b8%9b%e0%b8%a3%e0%b8%b0%e0%b8%a1%e0%b8%87%e0%b9%84%e0%b8%97%e0%b8%a2%e0%b8%8a%e0%b8%a7%e0%b8%99%e0%b8%a7%e0%b8%b4%e0%b9%88%e0%b8%872/
URL:https://patrunning.com/events/%e0%b8%9b%e0%b8%a3%e0%b8%b0%e0%b8%a1%e0%b8%87%e0%b9%84%e0%b8%97%e0%b8%a2%e0%b8%8a%e0%b8%a7%e0%b8%99%e0%b8%a7%e0%b8%b4%e0%b9%88%e0%b8%872/
END:VEVENT
END:VCALENDAR