BEGIN:VCALENDAR
VERSION:2.0
PRODID:-//eventon.com NONSGML v1.0//EN
CALSCALE:GREGORIAN
METHOD:PUBLISH
BEGIN:VEVENT
UID:69e878274b593
DTSTAMP:20260422T142631
DTSTART:20231030T055900Z
DTEND:20231030T055900Z
TZID:Pacific/Midway
LOCATION:นครราชสีมา 
SUMMARY:WALK RUN BIKE 9 (สนาม นครราชสีมา)
DESCRIPTION: WALK RUN BIKE 9 (สนาม นครราชสีมา)\nhttps://patrunning.com/events/walk-run-bike-9-%e0%b8%aa%e0%b8%99%e0%b8%b2%e0%b8%a1-%e0%b8%99%e0%b8%84%e0%b8%a3%e0%b8%a3%e0%b8%b2%e0%b8%8a%e0%b8%aa%e0%b8%b5%e0%b8%a1%e0%b8%b2/
URL:https://patrunning.com/events/walk-run-bike-9-%e0%b8%aa%e0%b8%99%e0%b8%b2%e0%b8%a1-%e0%b8%99%e0%b8%84%e0%b8%a3%e0%b8%a3%e0%b8%b2%e0%b8%8a%e0%b8%aa%e0%b8%b5%e0%b8%a1%e0%b8%b2/
END:VEVENT
END:VCALENDAR