BEGIN:VCALENDAR
VERSION:2.0
PRODID:-//eventon.com NONSGML v1.0//EN
CALSCALE:GREGORIAN
METHOD:PUBLISH
BEGIN:VEVENT
UID:69e7e76526b5c
DTSTAMP:20260422T040853
DTSTART:20231030T072300Z
DTEND:20231030T072300Z
TZID:Pacific/Midway
LOCATION:ระยอง 
SUMMARY:WALK RUN BIKE 9 (สนาม ระยอง)
DESCRIPTION: WALK RUN BIKE 9 (สนาม ระยอง)\nhttps://patrunning.com/events/walk-run-bike-9-%e0%b8%aa%e0%b8%99%e0%b8%b2%e0%b8%a1-%e0%b8%a3%e0%b8%b0%e0%b8%a2%e0%b8%ad%e0%b8%87/
URL:https://patrunning.com/events/walk-run-bike-9-%e0%b8%aa%e0%b8%99%e0%b8%b2%e0%b8%a1-%e0%b8%a3%e0%b8%b0%e0%b8%a2%e0%b8%ad%e0%b8%87/
END:VEVENT
END:VCALENDAR