BEGIN:VCALENDAR
VERSION:2.0
PRODID:-//eventon.com NONSGML v1.0//EN
CALSCALE:GREGORIAN
METHOD:PUBLISH
BEGIN:VEVENT
UID:69e7e765c634a
DTSTAMP:20260422T040853
DTSTART:20231127T022300Z
DTEND:20231127T022300Z
TZID:Pacific/Midway
LOCATION:ระยอง 
SUMMARY:ในไร่ ซุปเปอร์มินิมาราธอน 2023
DESCRIPTION: ในไร่ ซุปเปอร์มินิมาราธอน 2023\nhttps://patrunning.com/events/%e0%b9%83%e0%b8%99%e0%b9%84%e0%b8%a3%e0%b9%88-%e0%b8%8b%e0%b8%b8%e0%b8%9b%e0%b9%80%e0%b8%9b%e0%b8%ad%e0%b8%a3%e0%b9%8c%e0%b8%a1%e0%b8%b4%e0%b8%99%e0%b8%b4%e0%b8%a1%e0%b8%b2%e0%b8%a3%e0%b8%b2%e0%b8%98/
URL:https://patrunning.com/events/%e0%b9%83%e0%b8%99%e0%b9%84%e0%b8%a3%e0%b9%88-%e0%b8%8b%e0%b8%b8%e0%b8%9b%e0%b9%80%e0%b8%9b%e0%b8%ad%e0%b8%a3%e0%b9%8c%e0%b8%a1%e0%b8%b4%e0%b8%99%e0%b8%b4%e0%b8%a1%e0%b8%b2%e0%b8%a3%e0%b8%b2%e0%b8%98/
END:VEVENT
END:VCALENDAR