BEGIN:VCALENDAR
VERSION:2.0
PRODID:-//eventon.com NONSGML v1.0//EN
CALSCALE:GREGORIAN
METHOD:PUBLISH
BEGIN:VEVENT
UID:69e878244fbcc
DTSTAMP:20260422T142628
DTSTART:20230724T075300Z
DTEND:20230724T075300Z
TZID:Pacific/Midway
LOCATION:นครราชสีมา 
SUMMARY:KORAT21
DESCRIPTION: KORAT21\nhttps://patrunning.com/events/korat21/
URL:https://patrunning.com/events/korat21/
END:VEVENT
END:VCALENDAR