BEGIN:VCALENDAR
VERSION:2.0
PRODID:-//eventon.com NONSGML v1.0//EN
CALSCALE:GREGORIAN
METHOD:PUBLISH
BEGIN:VEVENT
UID:69ebdd2eb1640
DTSTAMP:20260425T041422
DTSTART:20230924T232200Z
DTEND:20230924T232200Z
TZID:Pacific/Midway
LOCATION:นครพนม 
SUMMARY:สะออนรัน 2023 Season 6
DESCRIPTION: สะออนรัน 2023 Season 6\nhttps://patrunning.com/events/%e0%b8%aa%e0%b8%b0%e0%b8%ad%e0%b8%ad%e0%b8%99%e0%b8%a3%e0%b8%b1%e0%b8%99-2023-season-6/
URL:https://patrunning.com/events/%e0%b8%aa%e0%b8%b0%e0%b8%ad%e0%b8%ad%e0%b8%99%e0%b8%a3%e0%b8%b1%e0%b8%99-2023-season-6/
END:VEVENT
END:VCALENDAR