BEGIN:VCALENDAR
VERSION:2.0
PRODID:-//eventon.com NONSGML v1.0//EN
CALSCALE:GREGORIAN
METHOD:PUBLISH
BEGIN:VEVENT
UID:69e7e76e76a8e
DTSTAMP:20260422T040902
DTSTART:20230619T072500Z
DTEND:20230619T072500Z
TZID:Pacific/Midway
LOCATION:ระยอง 
SUMMARY:วิ่ง เพื่อ สุข กะ ภาพ
DESCRIPTION: วิ่ง เพื่อ สุข กะ ภาพ\nhttps://patrunning.com/events/%e0%b8%a7%e0%b8%b4%e0%b9%88%e0%b8%87-%e0%b9%80%e0%b8%9e%e0%b8%b7%e0%b9%88%e0%b8%ad-%e0%b8%aa%e0%b8%b8%e0%b8%82-%e0%b8%81%e0%b8%b0-%e0%b8%a0%e0%b8%b2%e0%b8%9e/
URL:https://patrunning.com/events/%e0%b8%a7%e0%b8%b4%e0%b9%88%e0%b8%87-%e0%b9%80%e0%b8%9e%e0%b8%b7%e0%b9%88%e0%b8%ad-%e0%b8%aa%e0%b8%b8%e0%b8%82-%e0%b8%81%e0%b8%b0-%e0%b8%a0%e0%b8%b2%e0%b8%9e/
END:VEVENT
END:VCALENDAR