BEGIN:VCALENDAR
VERSION:2.0
PRODID:-//eventon.com NONSGML v1.0//EN
CALSCALE:GREGORIAN
METHOD:PUBLISH
BEGIN:VEVENT
UID:69e7e73db5752
DTSTAMP:20260422T040813
DTSTART:20231023T073000Z
DTEND:20231023T073000Z
TZID:Pacific/Midway
LOCATION:ระยอง 
SUMMARY:วัดละหารไร่ ฮาล์ฟ มาราธอน ครั้งที่ 2
DESCRIPTION: วัดละหารไร่ ฮาล์ฟ มาราธอน ครั้งที่ 2\nhttps://patrunning.com/events/%e0%b8%a7%e0%b8%b1%e0%b8%94%e0%b8%a5%e0%b8%b0%e0%b8%ab%e0%b8%b2%e0%b8%a3%e0%b9%84%e0%b8%a3%e0%b9%88-%e0%b8%ae%e0%b8%b2%e0%b8%a5%e0%b9%8c%e0%b8%9f-%e0%b8%a1%e0%b8%b2%e0%b8%a3%e0%b8%b2%e0%b8%98-2/
URL:https://patrunning.com/events/%e0%b8%a7%e0%b8%b1%e0%b8%94%e0%b8%a5%e0%b8%b0%e0%b8%ab%e0%b8%b2%e0%b8%a3%e0%b9%84%e0%b8%a3%e0%b9%88-%e0%b8%ae%e0%b8%b2%e0%b8%a5%e0%b9%8c%e0%b8%9f-%e0%b8%a1%e0%b8%b2%e0%b8%a3%e0%b8%b2%e0%b8%98-2/
END:VEVENT
END:VCALENDAR