BEGIN:VCALENDAR
VERSION:2.0
PRODID:-//eventon.com NONSGML v1.0//EN
CALSCALE:GREGORIAN
METHOD:PUBLISH
BEGIN:VEVENT
UID:69e7fea318150
DTSTAMP:20260422T054803
DTSTART:20231120T062200Z
DTEND:20231120T062200Z
TZID:Pacific/Midway
LOCATION:ระยอง 
SUMMARY:“Run For Kids” #8 วิ่งด้วยใจ ให้ด้วยรัก ครั้งที่ 8
DESCRIPTION: “Run For Kids” #8 วิ่งด้วยใจ ให้ด้วยรัก ครั้งที่ 8\nhttps://patrunning.com/events/run-for-kids-8-%e0%b8%a7%e0%b8%b4%e0%b9%88%e0%b8%87%e0%b8%94%e0%b9%89%e0%b8%a7%e0%b8%a2%e0%b9%83%e0%b8%88-%e0%b9%83%e0%b8%ab%e0%b9%89%e0%b8%94%e0%b9%89%e0%b8%a7%e0%b8%a2%e0%b8%a3%e0%b8%b1/
URL:https://patrunning.com/events/run-for-kids-8-%e0%b8%a7%e0%b8%b4%e0%b9%88%e0%b8%87%e0%b8%94%e0%b9%89%e0%b8%a7%e0%b8%a2%e0%b9%83%e0%b8%88-%e0%b9%83%e0%b8%ab%e0%b9%89%e0%b8%94%e0%b9%89%e0%b8%a7%e0%b8%a2%e0%b8%a3%e0%b8%b1/
END:VEVENT
END:VCALENDAR