BEGIN:VCALENDAR
VERSION:2.0
PRODID:-//eventon.com NONSGML v1.0//EN
CALSCALE:GREGORIAN
METHOD:PUBLISH
BEGIN:VEVENT
UID:69e78525d87de
DTSTAMP:20260421T210941
DTSTART:20231023T024600Z
DTEND:20231023T024600Z
TZID:Pacific/Midway
LOCATION:ประจวบคีรีขันธ์ 
SUMMARY:เหยี่ยวเขาโพธิ์รัน@ไชยราช 2023 ครั้งที่ 2
DESCRIPTION: เหยี่ยวเขาโพธิ์รัน@ไชยราช 2023 ครั้งที่ 2\nhttps://patrunning.com/events/%e0%b9%80%e0%b8%ab%e0%b8%a2%e0%b8%b5%e0%b9%88%e0%b8%a2%e0%b8%a7%e0%b9%80%e0%b8%82%e0%b8%b2%e0%b9%82%e0%b8%9e%e0%b8%98%e0%b8%b4%e0%b9%8c%e0%b8%a3%e0%b8%b1%e0%b8%99%e0%b9%84%e0%b8%8a%e0%b8%a2%e0%b8%a3/
URL:https://patrunning.com/events/%e0%b9%80%e0%b8%ab%e0%b8%a2%e0%b8%b5%e0%b9%88%e0%b8%a2%e0%b8%a7%e0%b9%80%e0%b8%82%e0%b8%b2%e0%b9%82%e0%b8%9e%e0%b8%98%e0%b8%b4%e0%b9%8c%e0%b8%a3%e0%b8%b1%e0%b8%99%e0%b9%84%e0%b8%8a%e0%b8%a2%e0%b8%a3/
END:VEVENT
END:VCALENDAR