BEGIN:VCALENDAR
VERSION:2.0
PRODID:-//eventon.com NONSGML v1.0//EN
CALSCALE:GREGORIAN
METHOD:PUBLISH
BEGIN:VEVENT
UID:69e7e76f1d00c
DTSTAMP:20260422T040903
DTSTART:20230820T081400Z
DTEND:20230821T081400Z
TZID:Pacific/Midway
LOCATION:ระยอง 
SUMMARY:WARRIX PRESENTED THAILAND EARTH TRAIL SERIES 2023 สนามที่ 2
DESCRIPTION: WARRIX PRESENTED THAILAND EARTH TRAIL SERIES 2023 สนามที่ 2\nhttps://patrunning.com/events/warrix-presented-thailand-earth-trail-series-2023-%e0%b8%aa%e0%b8%99%e0%b8%b2%e0%b8%a1%e0%b8%97%e0%b8%b5%e0%b9%88-2/
URL:https://patrunning.com/events/warrix-presented-thailand-earth-trail-series-2023-%e0%b8%aa%e0%b8%99%e0%b8%b2%e0%b8%a1%e0%b8%97%e0%b8%b5%e0%b9%88-2/
END:VEVENT
END:VCALENDAR