BEGIN:VCALENDAR
VERSION:2.0
PRODID:-//eventon.com NONSGML v1.0//EN
CALSCALE:GREGORIAN
METHOD:PUBLISH
BEGIN:VEVENT
UID:69e76db91a4db
DTSTAMP:20260421T192945
DTSTART:20231126T064600Z
DTEND:20231127T064600Z
TZID:Pacific/Midway
LOCATION:ประจวบคีรีขันธ์ 
SUMMARY:อลิอันซ์ อยุธยา เวิลด์ รัน ไทยแลนด์ ซีรีส์ 2023
DESCRIPTION: อลิอันซ์ อยุธยา เวิลด์ รัน ไทยแลนด์ ซีรีส์ 2023\nhttps://patrunning.com/events/%e0%b8%ad%e0%b8%a5%e0%b8%b4%e0%b8%ad%e0%b8%b1%e0%b8%99%e0%b8%8b%e0%b9%8c-%e0%b8%ad%e0%b8%a2%e0%b8%b8%e0%b8%98%e0%b8%a2%e0%b8%b2-%e0%b9%80%e0%b8%a7%e0%b8%b4%e0%b8%a5%e0%b8%94%e0%b9%8c-%e0%b8%a3-3/
URL:https://patrunning.com/events/%e0%b8%ad%e0%b8%a5%e0%b8%b4%e0%b8%ad%e0%b8%b1%e0%b8%99%e0%b8%8b%e0%b9%8c-%e0%b8%ad%e0%b8%a2%e0%b8%b8%e0%b8%98%e0%b8%a2%e0%b8%b2-%e0%b9%80%e0%b8%a7%e0%b8%b4%e0%b8%a5%e0%b8%94%e0%b9%8c-%e0%b8%a3-3/
END:VEVENT
END:VCALENDAR