BEGIN:VCALENDAR
VERSION:2.0
PRODID:-//eventon.com NONSGML v1.0//EN
CALSCALE:GREGORIAN
METHOD:PUBLISH
BEGIN:VEVENT
UID:69e7cea6eca6a
DTSTAMP:20260422T022318
DTSTART:20230904T073800Z
DTEND:20230904T073800Z
TZID:Pacific/Midway
LOCATION:ระยอง 
SUMMARY:Fly Navy Run For Sea & Child 2023
DESCRIPTION: Fly Navy Run For Sea & Child 2023\nhttps://patrunning.com/events/fly-navy-run-for-sea-child-2023/
URL:https://patrunning.com/events/fly-navy-run-for-sea-child-2023/
END:VEVENT
END:VCALENDAR