BEGIN:VCALENDAR
VERSION:2.0
PRODID:-//eventon.com NONSGML v1.0//EN
CALSCALE:GREGORIAN
METHOD:PUBLISH
BEGIN:VEVENT
UID:69e79adfb411a
DTSTAMP:20260421T224223
DTSTART:20230828T065300Z
DTEND:20230828T065300Z
TZID:Pacific/Midway
LOCATION:ประจวบคีรีขันธ์ 
SUMMARY:วิ่งชมแสงแรก ทะเลสวยอ่าวประจวบคีรีขันธ์
DESCRIPTION: วิ่งชมแสงแรก ทะเลสวยอ่าวประจวบคีรีขันธ์\nhttps://patrunning.com/events/%e0%b8%a7%e0%b8%b4%e0%b9%88%e0%b8%87%e0%b8%8a%e0%b8%a1%e0%b9%81%e0%b8%aa%e0%b8%87%e0%b9%81%e0%b8%a3%e0%b8%81-%e0%b8%97%e0%b8%b0%e0%b9%80%e0%b8%a5%e0%b8%aa%e0%b8%a7%e0%b8%a2%e0%b8%ad%e0%b9%88%e0%b8%b2/
URL:https://patrunning.com/events/%e0%b8%a7%e0%b8%b4%e0%b9%88%e0%b8%87%e0%b8%8a%e0%b8%a1%e0%b9%81%e0%b8%aa%e0%b8%87%e0%b9%81%e0%b8%a3%e0%b8%81-%e0%b8%97%e0%b8%b0%e0%b9%80%e0%b8%a5%e0%b8%aa%e0%b8%a7%e0%b8%a2%e0%b8%ad%e0%b9%88%e0%b8%b2/
END:VEVENT
END:VCALENDAR